BEGIN:VCALENDAR
VERSION:2.0
PRODID:-//Osten & Victor Alberta Tennis Centre - ECPv6.15.18//NONSGML v1.0//EN
CALSCALE:GREGORIAN
METHOD:PUBLISH
X-WR-CALNAME:Osten & Victor Alberta Tennis Centre
X-ORIGINAL-URL:https://albertatenniscentre.ca
X-WR-CALDESC:Events for Osten & Victor Alberta Tennis Centre
REFRESH-INTERVAL;VALUE=DURATION:PT1H
X-Robots-Tag:noindex
X-PUBLISHED-TTL:PT1H
BEGIN:VTIMEZONE
TZID:UTC
BEGIN:STANDARD
TZOFFSETFROM:+0000
TZOFFSETTO:+0000
TZNAME:UTC
DTSTART:20230101T000000
END:STANDARD
END:VTIMEZONE
BEGIN:VEVENT
DTSTART;TZID=UTC:20241011T173000
DTEND;TZID=UTC:20241012T130000
DTSTAMP:20260419T143235
CREATED:20240624T173234Z
LAST-MODIFIED:20240813T223635Z
UID:1066-1728667800-1728738000@albertatenniscentre.ca
SUMMARY:Everyone Can Play Gala: Oct 11 and 12\, 2024
DESCRIPTION:Everyone Can Play Program a barrier-free program\, developed and operated by the OSTEN & VICTOR Alberta Tennis Centre. The program will aim to improve accessible and inclusive participation in tennis at the community-level for new and under resourced Canadians in Calgary. \nOur strategy focuses on diverse communities in Calgary with the potential to expand to other markets and needs across Canada. Tennis provides an optimal environment for new Canadians to learn skills\, improve physical health\, develop cultural understandings\, and make social connections. \nGet Tickets\nOctober 11\, 2024\nTennis Exhibition 5:30 pm – 7:00 pm \nGala Event & Cocktail Reception 7:15 pm – Midnight \nOctober 12\, 2024\nCelebrity Pro-Am Tennis Event 9:00 am – 1:00 pm \nDetails\n\nCulinary Experience: 6 of Canada’s Top Chefs will take our guests through a culinary experience.\nSilent & Live Auctions: A silent and auction will be run in conjunction with high value prizes.\nEntertainment: Musical Entertainment\nSpeeches from Dignitaries\nPro-Am Tennis Event: Player auction format where participants can bid to play with a player/celebrity\n\n  \nAbout The Alberta Tennis Centre\nOSTEN & VICTOR Alberta Tennis Centre (ATC) is a non-profit\, community-based tennis centre servicing over 45\,000 Albertans annually through its various tennis development initiatives and programs. ATC is a recipient of numerous awards\, including Canada’s Facility Excellence Award and Canadian Sport Tourism’s Sponsorship Initiative Award. \nHow does the program work?\nATC will engage\, and partner with\, existing community-based partners specializing in settlement and integration of over 30\,000 Canadians in Calgary each year. Qualified individuals and families identified through partner agencies will be invited to participate in our Everyone Can Play Tennis Program. The program will remove all barriers to participation in tennis at the Alberta Tennis Centre; including complimentary or heavily subsidized programming\, providing coaching\, equipment\, multiple locations\, language support and subsidizing the cost of travel\, if necessary. \nBuy Now
URL:https://albertatenniscentre.ca/event/everyone-can-play-gala-oct-11-and-12-2024/
LOCATION:OSTEN & VICTOR Alberta Tennis Centre\, 295 90th Ave SE.\, Calgary\, Alberta\, T2J 0A1\, Canada
CATEGORIES:Events,Social Events
ATTACH;FMTTYPE=image/jpeg:https://albertatenniscentre.ca/wp-content/uploads/sites/283/2024/05/Blog-Header-Banner-1.jpg
ORGANIZER;CN="Danny Da Costa":MAILTO:ddacosta@albertatenniscentre.ca
END:VEVENT
BEGIN:VEVENT
DTSTART;TZID=UTC:20240517T190000
DTEND;TZID=UTC:20240517T213000
DTSTAMP:20260419T143235
CREATED:20240506T220850Z
LAST-MODIFIED:20240506T222123Z
UID:1011-1715972400-1715981400@albertatenniscentre.ca
SUMMARY:Cardio Tennis Social and Wine Tasting
DESCRIPTION:Mark your calendars for May 17\, 2024\, when we invite you to be a part of a thrilling Tennis Cardio Social and Wine Tasting\, this gathering is open to members or non-members over 18. \nPrepare yourself for an exhilarating 1.5-hour cardio tennis session on the court\, where you will engage in enjoyable and stimulating drills that are guaranteed to make you perspire! Throughout the event\, we will also indulge in entertaining games and competitive point play\, all while ensuring a delightful experience. \nTo enhance your evening\, a knowledgeable sommelier will grace us with their presence\, presenting a selection of top-notch wines and tantalizing cuisine sourced from the renowned Italian Centre shop. \nTo register\, go to the ATC CA app\, call the member Services Desk at 587-393-1600 or email Coach Yurii at ykushnir@albertatenniscentre.ca
URL:https://albertatenniscentre.ca/event/cardio-tennis-social-and-wine-tasting/
LOCATION:OSTEN & VICTOR Alberta Tennis Centre\, 295 90th Ave SE.\, Calgary\, Alberta\, T2J 0A1\, Canada
CATEGORIES:Events,Social Events
ATTACH;FMTTYPE=image/jpeg:https://albertatenniscentre.ca/wp-content/uploads/sites/283/2024/05/Wine-tasting-promotion-instagram-post.jpg
ORGANIZER;CN="Yurii Kushnir":MAILTO:ykushnir@albertatenniscentre.ca
END:VEVENT
BEGIN:VEVENT
DTSTART;TZID=UTC:20240426T190000
DTEND;TZID=UTC:20240426T203000
DTSTAMP:20260419T143235
CREATED:20240404T190041Z
LAST-MODIFIED:20240404T190041Z
UID:955-1714158000-1714163400@albertatenniscentre.ca
SUMMARY:Social: 1.5 & 2.0 Mixer
DESCRIPTION:We’re more than just Canada’s largest indoor tennis centre; we’re a thriving community. Our aim with ATC Socials is to foster connections among our members\, whether it’s exchanging greetings in the halls or gathering in Calgary for a casual coffee meetup. \nThis social is for all participants in the 1.5 and 2.0 adult programs! \nMark your calendars for Friday\, April 26th\, as we invite you to join us for an evening of social matchplay. Afterward\, we’ll gather upstairs for delicious food and refreshing drinks. It’s a fantastic opportunity to mingle with fellow players\, make new acquaintances\, and reconnect with friends from your program classes.⁠ \nDate: Friday\, April 26th \nTime: 7:00-8:30 pm (on court)\, followed by food and drinks in the ATC cafe.
URL:https://albertatenniscentre.ca/event/social-1-5-2-0-mixer/
LOCATION:OSTEN & VICTOR Alberta Tennis Centre\, 295 90th Ave SE.\, Calgary\, Alberta\, T2J 0A1\, Canada
CATEGORIES:Events,Social Events
ATTACH;FMTTYPE=image/png:https://albertatenniscentre.ca/wp-content/uploads/sites/283/2024/04/3.png
ORGANIZER;CN="Adam Bond":MAILTO:abond@albertatenniscentre.ca
END:VEVENT
END:VCALENDAR